BEGIN:VCALENDAR
VERSION:2.0
PRODID:-//Library Market//iCal Export//EN
BEGIN:VEVENT
SUMMARY:Tech Help by Appt
UID:8686
DTSTAMP:20260421T151800Z
DTSTART:20260514T220000Z
DTEND:20260514T223000Z
LOCATION:Highland Public Library, 444 Beach Farm Circle, Highland, MI 4835
 6, United States
ROOM: Main Level Group Study
DESCRIPTION:Do you have questions on how to use your tablet, phone or lapt
 op? Would you like to learn how to download ebooks or magazines from the 
 library?  Something else? Schedule a personal 30 minute appointment and 
 we&#039;ll do our best to help.
URL:https://highlandpl.librarycalendar.com/event/tech-help-appt-8686
END:VEVENT
END:VCALENDAR
