BEGIN:VCALENDAR
VERSION:2.0
PRODID:-//Library Market//iCal Export//EN
BEGIN:VEVENT
SUMMARY:The Basics of Infant and Toddler Care
UID:8618
DTSTAMP:20260419T210600Z
DTSTART:20260917T221500Z
DTEND:20260917T234500Z
LOCATION:Highland Public Library, 444 Beach Farm Circle, Highland, MI 4835
 6, United States
ROOM: Community Room
DESCRIPTION:Caring for a newborn or toddler can feel overwhelming—especi
 ally if you’ve never had the chance to learn these skills. This supporti
 ve workshop is designed to help parents and caregivers of children from bi
 rth to age 3 gain confidence and practical tools for everyday care.You&#03
 9;ll explore the basics of early childhood development, learn essential in
 fant and toddler care tips, and gain a deeper understanding of how to supp
 ort both your child’s and your own emotional and physical well- being. 
 This class is presented by MSU Extension.  They will provide MiRegistry t
 raining hours.
URL:https://highlandpl.librarycalendar.com/event/msu-extension-class-8618
END:VEVENT
END:VCALENDAR
