BEGIN:VCALENDAR
VERSION:2.0
PRODID:-//Library Market//iCal Export//EN
BEGIN:VEVENT
SUMMARY:Potty Training 101
UID:8617
DTSTAMP:20260421T151800Z
DTSTART:20260827T221500Z
DTEND:20260827T234500Z
LOCATION:Highland Public Library, 444 Beach Farm Circle, Highland, MI 4835
 6, United States
ROOM: Community Room
DESCRIPTION:Potty Training is an important milestone for children and some
 times a stressor for parents and caregivers. Learn about the signs that ch
 ildren are ready for independent toileting, tips for training, and challen
 ges that caregivers may face.Parents and participants will leave this trai
 ning with concrete strategies and practices to help ease the stress of thi
 s important time of learning and independence!This class is presented by M
 SU Extension.  They will provide MiRegistry training hours.
URL:https://highlandpl.librarycalendar.com/event/msu-extension-class-8617
END:VEVENT
END:VCALENDAR
