BEGIN:VCALENDAR
VERSION:2.0
PRODID:-//Library Market//iCal Export//EN
BEGIN:VEVENT
SUMMARY:Screen Time for Young Children
UID:8616
DTSTAMP:20260419T210600Z
DTSTART:20260716T221500Z
DTEND:20260716T234500Z
LOCATION:Highland Public Library, 444 Beach Farm Circle, Highland, MI 4835
 6, United States
ROOM: Community Room
DESCRIPTION:Screens are everywhere, and young children are spending more a
 nd more time in front of them. Screens and media can be a great way for ch
 ildren to learn, but it may also have a negative impact on their developme
 nt. This workshop will help participants learn about how screen time and 
 other media exposure impacts children, learn the screen time recommendatio
 ns for infants, toddlers, and young children and understand ways to decrea
 se screen time for young children.This class is presented by MSU Extension
 .  They will provide MiRegistry training hours.
URL:https://highlandpl.librarycalendar.com/event/msu-extension-class-8616
END:VEVENT
END:VCALENDAR
