BEGIN:VCALENDAR
VERSION:2.0
PRODID:-//Library Market//iCal Export//EN
BEGIN:VEVENT
SUMMARY:Dig into Worms
UID:8588
DTSTAMP:20260420T115700Z
DTSTART:20260615T220000Z
DTEND:20260615T230000Z
LOCATION:Highland Public Library, 444 Beach Farm Circle, Highland, MI 4835
 6, United States
ROOM: Community Room
DESCRIPTION:Join us for a grubby night of STEAM activities all about worms
 !
URL:https://highlandpl.librarycalendar.com/event/dig-worms-8588
END:VEVENT
END:VCALENDAR
