BEGIN:VCALENDAR
VERSION:2.0
PRODID:-//Library Market//iCal Export//EN
BEGIN:VEVENT
SUMMARY:Expedition: Magic  (SHOW)
UID:8356
DTSTAMP:20260421T151800Z
DTSTART:20260718T170000Z
DTEND:20260718T174500Z
LOCATION:Highland Public Library, 444 Beach Farm Circle, Highland, MI 4835
 6, United States
ROOM: Community Room
DESCRIPTION:Expedition: Magic  (SHOW)Our resident magician will take ages
  5 and up on a fun-filled journey through the amazing world of impossibili
 ties! This fast moving show runs 40 to 45 minutes and  features magic, co
 lor, stories and audience participation. There is a magic class being offe
 red after this show for ages 8 to 12. Perfect for curious kids who want to
  puzzle their friends. Patrons should sign up for the show and the class a
 s separate events.
URL:https://highlandpl.librarycalendar.com/event/expedition-magic-8356
END:VEVENT
END:VCALENDAR
