BEGIN:VCALENDAR
VERSION:2.0
PRODID:-//Library Market//iCal Export//EN
BEGIN:VEVENT
SUMMARY:Dragon Training
UID:8353
DTSTAMP:20260421T151800Z
DTSTART:20260613T180000Z
DTEND:20260613T190000Z
LOCATION:Highland Public Library, 444 Beach Farm Circle, Highland, MI 4835
 6, United States
ROOM: Community Room
DESCRIPTION:Welcome to Dragon Training!  This summer, dive into the world
  of How to Train Your Dragon by joining us at Dragon&#039;s Edge Training 
 School where you will learn the secret to Hiccup&#039;s success with Tooth
 less and make your own Viking shield.  Then test your skills by going thr
 ough the Trial of Fire!
URL:https://highlandpl.librarycalendar.com/event/dragon-training-8353
END:VEVENT
END:VCALENDAR
