BEGIN:VCALENDAR
VERSION:2.0
PRODID:-//Library Market//iCal Export//EN
BEGIN:VEVENT
SUMMARY:Ancient Pottery Class
UID:8078
DTSTAMP:20260419T184100Z
DTSTART:20260806T180000Z
DTEND:20260806T193000Z
LOCATION:Highland Public Library, 444 Beach Farm Circle, Highland, MI 4835
 6, United States
ROOM: Community Room
DESCRIPTION:Make a bowl or vase out of clay using a technique from ancient
  history.  Dress for a mess!
URL:https://highlandpl.librarycalendar.com/event/pottery-8078
END:VEVENT
END:VCALENDAR
