BEGIN:VCALENDAR
VERSION:2.0
PRODID:-//Library Market//iCal Export//EN
BEGIN:VEVENT
SUMMARY:Night at the Museum
UID:8076
DTSTAMP:20260422T014900Z
DTSTART:20260730T220000Z
DTEND:20260730T233000Z
LOCATION:Highland Public Library, 444 Beach Farm Circle, Highland, MI 4835
 6, United States
ROOM: Community Room
DESCRIPTION:Crack an archaic code, solve an ancient building mystery, or f
 ly your own miniature aircraft! Kids 5 and up are invited to enjoy the act
 ivities in our specially designed interactive “museum”.
URL:https://highlandpl.librarycalendar.com/event/night-museum-8076
END:VEVENT
END:VCALENDAR
