BEGIN:VCALENDAR
VERSION:2.0
PRODID:-//Library Market//iCal Export//EN
BEGIN:VEVENT
SUMMARY:Diamond Painting
UID:8074
DTSTAMP:20260419T184100Z
DTSTART:20260813T220000Z
DTEND:20260813T233000Z
LOCATION:Highland Public Library, 444 Beach Farm Circle, Highland, MI 4835
 6, United States
ROOM: Community Room
DESCRIPTION:Learn the basics of diamond painting and make a shiny piece of
  art to bring home!
URL:https://highlandpl.librarycalendar.com/event/diamond-painting-8074
END:VEVENT
END:VCALENDAR
