BEGIN:VCALENDAR
VERSION:2.0
PRODID:-//Library Market//iCal Export//EN
BEGIN:VEVENT
SUMMARY:Dino Stomp Dance Party
UID:8072
DTSTAMP:20260419T184100Z
DTSTART:20260604T143000Z
DTEND:20260604T151500Z
LOCATION:Highland Public Library, 444 Beach Farm Circle, Highland, MI 4835
 6, United States
ROOM: Community Room
DESCRIPTION:Dance like a dinosaur in this drop-in dance party!
URL:https://highlandpl.librarycalendar.com/event/dino-stomp-dance-party-80
 72
END:VEVENT
END:VCALENDAR
