BEGIN:VCALENDAR
VERSION:2.0
PRODID:-//Library Market//iCal Export//EN
BEGIN:VEVENT
SUMMARY:Mosaic Tiles
UID:8071
DTSTAMP:20260420T162100Z
DTSTART:20260708T220000Z
DTEND:20260708T233000Z
LOCATION:Highland Public Library, 444 Beach Farm Circle, Highland, MI 4835
 6, United States
ROOM: Community Room
DESCRIPTION:Create clay and paper mosaic tiles that look like they belong 
 in a museum!
URL:https://highlandpl.librarycalendar.com/event/mosaic-tiles-8071
END:VEVENT
END:VCALENDAR
