BEGIN:VCALENDAR
VERSION:2.0
PRODID:-//Library Market//iCal Export//EN
BEGIN:VEVENT
SUMMARY:Slime Club: Slimealicious
UID:8065
DTSTAMP:20260419T184100Z
DTSTART:20260805T220000Z
DTEND:20260805T230000Z
LOCATION:Highland Public Library, 444 Beach Farm Circle, Highland, MI 4835
 6, United States
ROOM: Community Room
DESCRIPTION:Use items found in your pantry, fridge, and bathroom to make u
 nique variations on slime!
URL:https://highlandpl.librarycalendar.com/event/slime-club-8065
END:VEVENT
END:VCALENDAR
