BEGIN:VCALENDAR
VERSION:2.0
PRODID:-//Library Market//iCal Export//EN
BEGIN:VEVENT
SUMMARY:Slime Club: Level Up Your Slime
UID:8064
DTSTAMP:20260419T210600Z
DTSTART:20260722T220000Z
DTEND:20260722T230000Z
LOCATION:Highland Public Library, 444 Beach Farm Circle, Highland, MI 4835
 6, United States
ROOM: Community Room
DESCRIPTION:Level up your classic slime with interesting additions to make
  even more exciting slime with fun, new textures!
URL:https://highlandpl.librarycalendar.com/event/slime-club-8064
END:VEVENT
END:VCALENDAR
