BEGIN:VCALENDAR
VERSION:2.0
PRODID:-//Library Market//iCal Export//EN
BEGIN:VEVENT
SUMMARY:Dig Into Playdough
UID:8063
DTSTAMP:20260419T210600Z
DTSTART:20260716T140000Z
DTEND:20260716T160000Z
LOCATION:Highland Public Library, 444 Beach Farm Circle, Highland, MI 4835
 6, United States
ROOM: Community Room
DESCRIPTION:Spend the whole morning playing with various types of playdoug
 h then take a book of recipes to try at home!  All playdoughs featured in
  this program are edible and baby friendly, too!
URL:https://highlandpl.librarycalendar.com/event/sensory-slime-8063
END:VEVENT
END:VCALENDAR
