BEGIN:VCALENDAR
VERSION:2.0
PRODID:-//Library Market//iCal Export//EN
BEGIN:VEVENT
SUMMARY:Slime Club: Classic Slime
UID:8062
DTSTAMP:20260420T162100Z
DTSTART:20260624T220000Z
DTEND:20260624T230000Z
LOCATION:Highland Public Library, 444 Beach Farm Circle, Highland, MI 4835
 6, United States
ROOM: Community Room
DESCRIPTION:Learn how to make classic slime three different ways plus a se
 cret 4th type of slime that should be a classic!
URL:https://highlandpl.librarycalendar.com/event/slime-club-8062
END:VEVENT
END:VCALENDAR
