BEGIN:VCALENDAR
VERSION:2.0
PRODID:-//Library Market//iCal Export//EN
BEGIN:VEVENT
SUMMARY:Percy Jackson Quest
UID:8061
DTSTAMP:20260421T151800Z
DTSTART:20260627T180000Z
DTEND:20260627T190000Z
LOCATION:Highland Public Library, 444 Beach Farm Circle, Highland, MI 4835
 6, United States
ROOM: Community Room
DESCRIPTION:You shall go on a quest to find what was stolen and see it saf
 ely returned.  Get a prophecy, gear up, solve challenges, and fight monst
 ers - or fail to save what matters most in the end.This program is for old
 er (8+) kids and teens only.  Participants must be able to quest independ
 ently! 
URL:https://highlandpl.librarycalendar.com/event/percy-jackson-quest-8061
END:VEVENT
END:VCALENDAR
